BEGIN:VCALENDAR
VERSION:2.0
PRODID:-//https://www.pg-vorspessart.de///NONSGML kigkonsult.se iCalcreator 2.10.15//
METHOD:PUBLISH
BEGIN:VEVENT
UID:20260421T140531CEST-4567SAp5fd@https://www.pg-vorspessart.de/
DTSTAMP:20260421T120531Z
DESCRIPTION:Rottenberger Seniorentreff 60plus\nDekanatswallfahrt nach Fulda
 \nEndlich machen wir uns wieder auf den Weg.\nWie jedes Jahr beginnen wir 
 unsere „Ausflugssaison“ mit der Dekanatswallfahrt.\nAm Dienstag\, den 19. 
 Mai 2026&nbsp\; kommen wir so in das schöne alte Fulda.\nWir starten um 10
  Uhr am alten Feuerwehrhaus und\ntreffen gegen 12 Uhr zum Mittagessen im B
 rauhaus Wiesenmühle in Fulda ein.\nUm 14.30 Uhr beginnt der Wallfahrtsgott
 esdienst im Dom.\nAnschließend lädt uns die Altstadt zum Bummeln\, Besicht
 igen\, Kaffeetrinken oder Eisessen ein.\nFür ca. 17.30 Uhr ist die Rückfah
 rt nach Rottenberg geplant.\nAuch in diesem Jahr bieten wir euch die Busfa
 hrt zum Dekanatswallfahrts-Sonderpreis von\n15 Euro an.\nWir bitten um bal
 dige Anmeldungen bei Rosemarie Steigerwald (Tel. 9091) oder Liselotte Saue
 r (Tel. 3827).\nEin schöner und bereichernder Tag erwartet uns.\nBitte mac
 ht viel Werbung\, damit wir unseren Bus voll bekommen!\nGäste sind wie imm
 er herzlich willkommen.\nEuer 60+OrgaTeam\nElfriede\, Liselotte\, Marianne
 \, Maria und Rosemarie\n&nbsp\; https://www.pg-vorspessart.de/aktuelles/te
 rmine/event/350-dekanatswallfahrt-der-senioren-nach-fulda
DTSTART:20260519T080000Z
DTEND:20260519T153000Z
LOCATION:Pfarreiengemeinschaft St. Vitus im Vorspessart  (Georg-Blass-Straß
 e 36\, 63768 Hösbach\, Deutschland)
SUMMARY:Dekanatswallfahrt der Senioren nach Fulda
URL:https://www.pg-vorspessart.de/aktuelles/termine/event/350-dekanatswallf
 ahrt-der-senioren-nach-fulda
END:VEVENT
END:VCALENDAR
